Package: LBE Version: 1.76.0 Command: rm -rf LBE.buildbin-libdir && mkdir LBE.buildbin-libdir && /Users/biocbuild/BBS/utils/build-universal.sh LBE_1.76.0.tar.gz /Library/Frameworks/R.framework/Resources/bin/R LBE.buildbin-libdir StartedAt: 2025-10-14 13:51:24 -0400 (Tue, 14 Oct 2025) EndedAt: 2025-10-14 13:51:31 -0400 (Tue, 14 Oct 2025) EllapsedTime: 6.6 seconds RetCode: 0 Status: OK PackageFile: LBE_1.76.0.tgz PackageFileSize: 811.4 KiB