Package: LBE Version: 1.76.0 Command: /home/biocbuild/R/R/bin/R CMD build --keep-empty-dirs --no-resave-data LBE StartedAt: 2025-10-14 01:58:48 -0000 (Tue, 14 Oct 2025) EndedAt: 2025-10-14 01:58:55 -0000 (Tue, 14 Oct 2025) EllapsedTime: 7.0 seconds RetCode: 0 Status: OK PackageFile: LBE_1.76.0.tar.gz PackageFileSize: 776.5 KiB