Package: LBE Version: 1.76.0 Command: /Library/Frameworks/R.framework/Resources/bin/R CMD INSTALL LBE StartedAt: 2025-10-13 15:09:20 -0400 (Mon, 13 Oct 2025) EndedAt: 2025-10-13 15:09:22 -0400 (Mon, 13 Oct 2025) EllapsedTime: 2.2 seconds RetCode: 0 Status: OK