Package: LACE Version: 2.12.0 Command: /home/biocbuild/bbs-3.21-bioc/R/bin/R CMD INSTALL LACE StartedAt: 2025-10-15 15:25:31 -0400 (Wed, 15 Oct 2025) EndedAt: 2025-10-15 15:26:04 -0400 (Wed, 15 Oct 2025) EllapsedTime: 32.5 seconds RetCode: 0 Status: OK