Package: LACE Version: 2.12.0 Command: /Library/Frameworks/R.framework/Resources/bin/R CMD INSTALL LACE StartedAt: 2025-10-13 16:15:57 -0400 (Mon, 13 Oct 2025) EndedAt: 2025-10-13 16:16:36 -0400 (Mon, 13 Oct 2025) EllapsedTime: 39.2 seconds RetCode: 0 Status: OK