Package: KEGGlincs Version: 1.34.0 Command: E:\biocbuild\bbs-3.21-bioc\R\bin\R.exe CMD INSTALL KEGGlincs StartedAt: 2025-08-14 17:02:34 -0400 (Thu, 14 Aug 2025) EndedAt: 2025-08-14 17:03:05 -0400 (Thu, 14 Aug 2025) EllapsedTime: 31.0 seconds RetCode: 0 Status: OK