Package: KEGGlincs Version: 1.34.0 Command: chmod a+r KEGGlincs -R && E:\biocbuild\bbs-3.21-bioc\R\bin\R.exe CMD build --keep-empty-dirs --no-resave-data KEGGlincs StartedAt: 2025-08-14 20:00:13 -0400 (Thu, 14 Aug 2025) EndedAt: 2025-08-14 20:01:25 -0400 (Thu, 14 Aug 2025) EllapsedTime: 71.9 seconds RetCode: 0 Status: OK PackageFile: KEGGlincs_1.34.0.tar.gz PackageFileSize: 4.215 MiB