Package: KEGGlincs Version: 1.34.0 Command: rm -rf KEGGlincs.buildbin-libdir && mkdir KEGGlincs.buildbin-libdir && /Users/biocbuild/BBS/utils/build-universal.sh KEGGlincs_1.34.0.tar.gz /Library/Frameworks/R.framework/Resources/bin/R KEGGlincs.buildbin-libdir StartedAt: 2025-10-14 13:50:42 -0400 (Tue, 14 Oct 2025) EndedAt: 2025-10-14 13:51:46 -0400 (Tue, 14 Oct 2025) EllapsedTime: 63.9 seconds RetCode: 0 Status: OK PackageFile: KEGGlincs_1.34.0.tgz PackageFileSize: 2.279 MiB