Package: KEGGlincs Version: 1.34.0 Command: /Library/Frameworks/R.framework/Resources/bin/R CMD INSTALL KEGGlincs StartedAt: 2025-04-21 15:43:13 -0400 (Mon, 21 Apr 2025) EndedAt: 2025-04-21 15:43:38 -0400 (Mon, 21 Apr 2025) EllapsedTime: 24.9 seconds RetCode: 0 Status: OK