Package: KEGGlincs Version: 1.34.0 Command: rm -rf KEGGlincs.buildbin-libdir && mkdir KEGGlincs.buildbin-libdir && /Users/biocbuild/BBS/utils/build-universal.sh KEGGlincs_1.34.0.tar.gz /Library/Frameworks/R.framework/Resources/bin/R KEGGlincs.buildbin-libdir StartedAt: 2025-04-22 00:51:54 -0400 (Tue, 22 Apr 2025) EndedAt: 2025-04-22 00:52:21 -0400 (Tue, 22 Apr 2025) EllapsedTime: 26.7 seconds RetCode: 0 Status: OK PackageFile: KEGGlincs_1.34.0.tgz PackageFileSize: 2.279 MiB