Package: KEGGlincs Version: 1.34.0 Command: /Library/Frameworks/R.framework/Resources/bin/R CMD INSTALL KEGGlincs StartedAt: 2025-10-13 18:22:39 -0400 (Mon, 13 Oct 2025) EndedAt: 2025-10-13 18:22:59 -0400 (Mon, 13 Oct 2025) EllapsedTime: 20.8 seconds RetCode: 0 Status: OK