Package: KEGGREST Version: 1.48.1 Command: chmod a+r KEGGREST -R && E:\biocbuild\bbs-3.21-bioc\R\bin\R.exe CMD build --keep-empty-dirs --no-resave-data KEGGREST StartedAt: 2025-08-14 20:00:40 -0400 (Thu, 14 Aug 2025) EndedAt: 2025-08-14 20:01:27 -0400 (Thu, 14 Aug 2025) EllapsedTime: 46.5 seconds RetCode: 0 Status: OK PackageFile: KEGGREST_1.48.1.tar.gz PackageFileSize: 233.8 KiB