Package: KEGGREST Version: 1.48.1 Command: /home/biocbuild/bbs-3.21-bioc/R/bin/R CMD INSTALL KEGGREST StartedAt: 2025-10-15 15:24:11 -0400 (Wed, 15 Oct 2025) EndedAt: 2025-10-15 15:24:20 -0400 (Wed, 15 Oct 2025) EllapsedTime: 9.1 seconds RetCode: 0 Status: OK