Package: KEGGREST Version: 1.48.1 Command: /home/biocbuild/bbs-3.21-bioc/R/bin/R CMD check --install=check:KEGGREST.install-out.txt --library=/home/biocbuild/bbs-3.21-bioc/R/site-library --timings KEGGREST_1.48.1.tar.gz StartedAt: 2025-10-16 00:29:04 -0400 (Thu, 16 Oct 2025) EndedAt: 2025-10-16 00:32:53 -0400 (Thu, 16 Oct 2025) EllapsedTime: 229.3 seconds RetCode: 0 Status: OK CheckDir: KEGGREST.Rcheck Warnings: 0