Package: KEGGREST Version: 1.48.1 Command: /Library/Frameworks/R.framework/Resources/bin/R CMD INSTALL KEGGREST StartedAt: 2025-10-13 15:46:14 -0400 (Mon, 13 Oct 2025) EndedAt: 2025-10-13 15:46:26 -0400 (Mon, 13 Oct 2025) EllapsedTime: 11.9 seconds RetCode: 0 Status: OK