Package: KEGGREST Version: 1.48.1 Command: rm -rf KEGGREST.buildbin-libdir && mkdir KEGGREST.buildbin-libdir && /Users/biocbuild/BBS/utils/build-universal.sh KEGGREST_1.48.1.tar.gz /Library/Frameworks/R.framework/Resources/bin/R KEGGREST.buildbin-libdir StartedAt: 2025-10-15 19:03:22 -0400 (Wed, 15 Oct 2025) EndedAt: 2025-10-15 19:03:34 -0400 (Wed, 15 Oct 2025) EllapsedTime: 12.7 seconds RetCode: 0 Status: OK PackageFile: KEGGREST_1.48.1.tgz PackageFileSize: 397.1 KiB