Package: KCsmart Version: 2.66.0 Command: chmod a+r KCsmart -R && E:\biocbuild\bbs-3.21-bioc\R\bin\R.exe CMD build --keep-empty-dirs --no-resave-data KCsmart StartedAt: 2025-08-14 19:59:56 -0400 (Thu, 14 Aug 2025) EndedAt: 2025-08-14 20:00:39 -0400 (Thu, 14 Aug 2025) EllapsedTime: 42.9 seconds RetCode: 0 Status: OK PackageFile: KCsmart_2.66.0.tar.gz PackageFileSize: 1.708 MiB