Package: KCsmart Version: 2.66.0 Command: rm -rf KCsmart.buildbin-libdir && mkdir KCsmart.buildbin-libdir && E:\biocbuild\bbs-3.21-bioc\R\bin\R.exe CMD INSTALL --build --library=KCsmart.buildbin-libdir KCsmart_2.66.0.tar.gz StartedAt: 2025-08-15 09:34:20 -0400 (Fri, 15 Aug 2025) EndedAt: 2025-08-15 09:34:55 -0400 (Fri, 15 Aug 2025) EllapsedTime: 35.7 seconds RetCode: 0 Status: OK PackageFile: KCsmart_2.66.0.zip PackageFileSize: 2.094 MiB