Package: KCsmart Version: 2.66.0 Command: /Library/Frameworks/R.framework/Resources/bin/R CMD check --install=check:KCsmart.install-out.txt --library=/Library/Frameworks/R.framework/Resources/library --no-vignettes --timings KCsmart_2.66.0.tar.gz StartedAt: 2025-10-14 05:39:11 -0400 (Tue, 14 Oct 2025) EndedAt: 2025-10-14 05:42:07 -0400 (Tue, 14 Oct 2025) EllapsedTime: 175.5 seconds RetCode: 0 Status: WARNINGS CheckDir: KCsmart.Rcheck Warnings: 1