Package: KBoost Version: 1.16.0 Command: rm -rf KBoost.buildbin-libdir && mkdir KBoost.buildbin-libdir && E:\biocbuild\bbs-3.21-bioc\R\bin\R.exe CMD INSTALL --build --library=KBoost.buildbin-libdir KBoost_1.16.0.tar.gz StartedAt: 2025-08-15 09:34:18 -0400 (Fri, 15 Aug 2025) EndedAt: 2025-08-15 09:34:49 -0400 (Fri, 15 Aug 2025) EllapsedTime: 31.4 seconds RetCode: 0 Status: OK PackageFile: KBoost_1.16.0.zip PackageFileSize: 582.8 KiB