Package: KBoost Version: 1.16.0 Command: /Library/Frameworks/R.framework/Resources/bin/R CMD INSTALL KBoost StartedAt: 2025-10-13 15:07:05 -0400 (Mon, 13 Oct 2025) EndedAt: 2025-10-13 15:07:07 -0400 (Mon, 13 Oct 2025) EllapsedTime: 2.5 seconds RetCode: 0 Status: OK