Package: IsoBayes Version: 1.6.1 Command: chmod a+r IsoBayes -R && E:\biocbuild\bbs-3.21-bioc\R\bin\R.exe CMD build --keep-empty-dirs --no-resave-data IsoBayes StartedAt: 2025-08-14 19:57:30 -0400 (Thu, 14 Aug 2025) EndedAt: 2025-08-14 20:00:02 -0400 (Thu, 14 Aug 2025) EllapsedTime: 152.1 seconds RetCode: 0 Status: OK PackageFile: IsoBayes_1.6.1.tar.gz PackageFileSize: 1.465 MiB