Package: IsoBayes Version: 1.6.1 Command: rm -rf IsoBayes.buildbin-libdir && mkdir IsoBayes.buildbin-libdir && E:\biocbuild\bbs-3.21-bioc\R\bin\R.exe CMD INSTALL --build --library=IsoBayes.buildbin-libdir IsoBayes_1.6.1.tar.gz StartedAt: 2025-08-15 09:33:36 -0400 (Fri, 15 Aug 2025) EndedAt: 2025-08-15 09:34:39 -0400 (Fri, 15 Aug 2025) EllapsedTime: 63.3 seconds RetCode: 0 Status: OK PackageFile: IsoBayes_1.6.1.zip PackageFileSize: 1.887 MiB