Package: InteractionSet Version: 1.36.1 Command: E:\biocbuild\bbs-3.21-bioc\R\bin\R.exe CMD check --no-multiarch --install=check:InteractionSet.install-out.txt --library=E:\biocbuild\bbs-3.21-bioc\R\library --no-vignettes --timings InteractionSet_1.36.1.tar.gz StartedAt: 2025-08-15 03:18:58 -0400 (Fri, 15 Aug 2025) EndedAt: 2025-08-15 03:24:26 -0400 (Fri, 15 Aug 2025) EllapsedTime: 328.0 seconds RetCode: 0 Status: OK CheckDir: InteractionSet.Rcheck Warnings: 0