Package: InteractionSet Version: 1.36.1 Command: chmod a+r InteractionSet -R && E:\biocbuild\bbs-3.21-bioc\R\bin\R.exe CMD build --keep-empty-dirs --no-resave-data InteractionSet StartedAt: 2025-08-14 19:52:44 -0400 (Thu, 14 Aug 2025) EndedAt: 2025-08-14 19:54:26 -0400 (Thu, 14 Aug 2025) EllapsedTime: 102.9 seconds RetCode: 0 Status: OK PackageFile: InteractionSet_1.36.1.tar.gz PackageFileSize: 391.5 KiB