Package: InteractionSet Version: 1.36.1 Command: rm -rf InteractionSet.buildbin-libdir && mkdir InteractionSet.buildbin-libdir && E:\biocbuild\bbs-3.21-bioc\R\bin\R.exe CMD INSTALL --build --library=InteractionSet.buildbin-libdir InteractionSet_1.36.1.tar.gz StartedAt: 2025-08-15 09:31:59 -0400 (Fri, 15 Aug 2025) EndedAt: 2025-08-15 09:35:27 -0400 (Fri, 15 Aug 2025) EllapsedTime: 207.8 seconds RetCode: 0 Status: OK PackageFile: InteractionSet_1.36.1.zip PackageFileSize: 1.872 MiB