Package: InteractionSet Version: 1.36.1 Command: /home/biocbuild/bbs-3.21-bioc/R/bin/R CMD build --keep-empty-dirs --no-resave-data InteractionSet StartedAt: 2025-10-15 18:06:19 -0400 (Wed, 15 Oct 2025) EndedAt: 2025-10-15 18:07:15 -0400 (Wed, 15 Oct 2025) EllapsedTime: 56.0 seconds RetCode: 0 Status: OK PackageFile: InteractionSet_1.36.1.tar.gz PackageFileSize: 391.1 KiB