Package: InteractionSet Version: 1.36.1 Command: /Library/Frameworks/R.framework/Resources/bin/R CMD check --install=check:InteractionSet.install-out.txt --library=/Library/Frameworks/R.framework/Resources/library --no-vignettes --timings InteractionSet_1.36.1.tar.gz StartedAt: 2025-10-14 05:24:21 -0400 (Tue, 14 Oct 2025) EndedAt: 2025-10-14 05:33:12 -0400 (Tue, 14 Oct 2025) EllapsedTime: 530.5 seconds RetCode: 0 Status: OK CheckDir: InteractionSet.Rcheck Warnings: 0