Package: InteractionSet Version: 1.36.1 Command: /Library/Frameworks/R.framework/Resources/bin/R CMD INSTALL InteractionSet StartedAt: 2025-10-13 16:27:06 -0400 (Mon, 13 Oct 2025) EndedAt: 2025-10-13 16:27:52 -0400 (Mon, 13 Oct 2025) EllapsedTime: 46.2 seconds RetCode: 0 Status: OK