Package: InteractionSet Version: 1.36.1 Command: /Library/Frameworks/R.framework/Resources/bin/R CMD build --keep-empty-dirs --no-resave-data InteractionSet StartedAt: 2025-10-14 02:46:58 -0400 (Tue, 14 Oct 2025) EndedAt: 2025-10-14 02:48:09 -0400 (Tue, 14 Oct 2025) EllapsedTime: 71.4 seconds RetCode: 0 Status: OK PackageFile: InteractionSet_1.36.1.tar.gz PackageFileSize: 391.1 KiB