Package: Informeasure Version: 1.18.0 Command: /home/biocbuild/R/R/bin/R CMD build --keep-empty-dirs --no-resave-data Informeasure StartedAt: 2025-10-14 01:49:08 -0000 (Tue, 14 Oct 2025) EndedAt: 2025-10-14 01:49:25 -0000 (Tue, 14 Oct 2025) EllapsedTime: 17.0 seconds RetCode: 0 Status: OK PackageFile: Informeasure_1.18.0.tar.gz PackageFileSize: 300.9 KiB