Package: InTAD Version: 1.28.0 Command: /home/biocbuild/bbs-3.21-bioc/R/bin/R CMD INSTALL InTAD StartedAt: 2025-10-05 15:26:09 -0400 (Sun, 05 Oct 2025) EndedAt: 2025-10-05 15:26:46 -0400 (Sun, 05 Oct 2025) EllapsedTime: 37.2 seconds RetCode: 0 Status: OK