Package: InPAS Version: 2.16.0 Command: E:\biocbuild\bbs-3.21-bioc\R\bin\R.exe CMD INSTALL InPAS StartedAt: 2025-08-14 16:55:43 -0400 (Thu, 14 Aug 2025) EndedAt: 2025-08-14 16:57:03 -0400 (Thu, 14 Aug 2025) EllapsedTime: 80.3 seconds RetCode: 0 Status: OK