Package: InPAS Version: 2.16.0 Command: E:\biocbuild\bbs-3.21-bioc\R\bin\R.exe CMD check --no-multiarch --install=check:InPAS.install-out.txt --library=E:\biocbuild\bbs-3.21-bioc\R\library --no-vignettes --timings InPAS_2.16.0.tar.gz StartedAt: 2025-08-15 03:17:42 -0400 (Fri, 15 Aug 2025) EndedAt: 2025-08-15 03:25:59 -0400 (Fri, 15 Aug 2025) EllapsedTime: 496.4 seconds RetCode: 0 Status: WARNINGS CheckDir: InPAS.Rcheck Warnings: 1