Package: InPAS Version: 2.16.0 Command: rm -rf InPAS.buildbin-libdir && mkdir InPAS.buildbin-libdir && E:\biocbuild\bbs-3.21-bioc\R\bin\R.exe CMD INSTALL --build --library=InPAS.buildbin-libdir InPAS_2.16.0.tar.gz StartedAt: 2025-08-15 09:31:47 -0400 (Fri, 15 Aug 2025) EndedAt: 2025-08-15 09:33:06 -0400 (Fri, 15 Aug 2025) EllapsedTime: 79.1 seconds RetCode: 0 Status: OK PackageFile: InPAS_2.16.0.zip PackageFileSize: 3.32 MiB