Package: IdeoViz Version: 1.44.0 Command: rm -rf IdeoViz.buildbin-libdir && mkdir IdeoViz.buildbin-libdir && /Users/biocbuild/BBS/utils/build-universal.sh IdeoViz_1.44.0.tar.gz /Library/Frameworks/R.framework/Resources/bin/R IdeoViz.buildbin-libdir StartedAt: 2025-04-21 22:38:42 -0400 (Mon, 21 Apr 2025) EndedAt: 2025-04-21 22:38:56 -0400 (Mon, 21 Apr 2025) EllapsedTime: 13.3 seconds RetCode: 0 Status: OK PackageFile: IdeoViz_1.44.0.tgz PackageFileSize: 450.3 KiB