Package: Icens Version: 1.80.0 Command: /home/biocbuild/bbs-3.21-bioc/R/bin/R CMD INSTALL Icens StartedAt: 2025-10-05 15:11:12 -0400 (Sun, 05 Oct 2025) EndedAt: 2025-10-05 15:11:22 -0400 (Sun, 05 Oct 2025) EllapsedTime: 9.9 seconds RetCode: 0 Status: OK