Package: Icens Version: 1.80.0 Command: /home/biocbuild/bbs-3.21-bioc/R/bin/R CMD check --install=check:Icens.install-out.txt --library=/home/biocbuild/bbs-3.21-bioc/R/site-library --timings Icens_1.80.0.tar.gz StartedAt: 2025-10-06 00:08:40 -0400 (Mon, 06 Oct 2025) EndedAt: 2025-10-06 00:09:12 -0400 (Mon, 06 Oct 2025) EllapsedTime: 32.0 seconds RetCode: 0 Status: OK CheckDir: Icens.Rcheck Warnings: 0