Package: Icens Version: 1.80.0 Command: /home/biocbuild/bbs-3.21-bioc/R/bin/R CMD build --keep-empty-dirs --no-resave-data Icens StartedAt: 2025-10-05 18:03:46 -0400 (Sun, 05 Oct 2025) EndedAt: 2025-10-05 18:03:47 -0400 (Sun, 05 Oct 2025) EllapsedTime: 1.0 seconds RetCode: 0 Status: OK PackageFile: Icens_1.80.0.tar.gz PackageFileSize: 20.83 KiB