Package: IWTomics Version: 1.32.0 Command: /home/biocbuild/bbs-3.21-bioc/R/bin/R CMD check --install=check:IWTomics.install-out.txt --library=/home/biocbuild/bbs-3.21-bioc/R/site-library --timings IWTomics_1.32.0.tar.gz StartedAt: 2025-10-16 00:26:45 -0400 (Thu, 16 Oct 2025) EndedAt: 2025-10-16 00:31:20 -0400 (Thu, 16 Oct 2025) EllapsedTime: 275.3 seconds RetCode: 0 Status: WARNINGS CheckDir: IWTomics.Rcheck Warnings: 1