Package: IWTomics Version: 1.32.0 Command: /home/biocbuild/R/R/bin/R CMD check --install=check:IWTomics.install-out.txt --library=/home/biocbuild/R/R/site-library --no-vignettes --timings IWTomics_1.32.0.tar.gz StartedAt: 2025-10-14 10:32:56 -0000 (Tue, 14 Oct 2025) EndedAt: 2025-10-14 10:37:49 -0000 (Tue, 14 Oct 2025) EllapsedTime: 293.2 seconds RetCode: 0 Status: WARNINGS CheckDir: IWTomics.Rcheck Warnings: 1