Package: IVAS Version: 2.28.0 Command: /Library/Frameworks/R.framework/Resources/bin/R CMD check --install=check:IVAS.install-out.txt --library=/Library/Frameworks/R.framework/Resources/library --no-vignettes --timings IVAS_2.28.0.tar.gz StartedAt: 2025-04-21 20:00:48 -0400 (Mon, 21 Apr 2025) EndedAt: 2025-04-21 20:02:49 -0400 (Mon, 21 Apr 2025) EllapsedTime: 120.5 seconds RetCode: 0 Status: WARNINGS CheckDir: IVAS.Rcheck Warnings: 1