Package: IVAS Version: 2.28.0 Command: rm -rf IVAS.buildbin-libdir && mkdir IVAS.buildbin-libdir && /Users/biocbuild/BBS/utils/build-universal.sh IVAS_2.28.0.tar.gz /Library/Frameworks/R.framework/Resources/bin/R IVAS.buildbin-libdir StartedAt: 2025-04-21 22:39:46 -0400 (Mon, 21 Apr 2025) EndedAt: 2025-04-21 22:40:04 -0400 (Mon, 21 Apr 2025) EllapsedTime: 18.5 seconds RetCode: 0 Status: OK PackageFile: IVAS_2.28.0.tgz PackageFileSize: 681.9 KiB