Package: IONiseR Version: 2.32.0 Command: chmod a+r IONiseR -R && E:\biocbuild\bbs-3.21-bioc\R\bin\R.exe CMD build --keep-empty-dirs --no-resave-data IONiseR StartedAt: 2025-08-14 19:54:13 -0400 (Thu, 14 Aug 2025) EndedAt: 2025-08-14 19:56:59 -0400 (Thu, 14 Aug 2025) EllapsedTime: 166.6 seconds RetCode: 0 Status: OK PackageFile: IONiseR_2.32.0.tar.gz PackageFileSize: 2.488 MiB