Package: IONiseR Version: 2.32.0 Command: /home/biocbuild/bbs-3.21-bioc/R/bin/R CMD build --keep-empty-dirs --no-resave-data IONiseR StartedAt: 2025-10-01 18:11:43 -0400 (Wed, 01 Oct 2025) EndedAt: 2025-10-01 18:13:27 -0400 (Wed, 01 Oct 2025) EllapsedTime: 104.1 seconds RetCode: 0 Status: OK PackageFile: IONiseR_2.32.0.tar.gz PackageFileSize: 4.583 MiB