Package: IONiseR Version: 2.32.0 Command: /Library/Frameworks/R.framework/Resources/bin/R CMD build --keep-empty-dirs --no-resave-data IONiseR StartedAt: 2025-09-29 19:57:14 -0400 (Mon, 29 Sep 2025) EndedAt: 2025-09-29 20:00:49 -0400 (Mon, 29 Sep 2025) EllapsedTime: 215.9 seconds RetCode: 0 Status: OK PackageFile: IONiseR_2.32.0.tar.gz PackageFileSize: 4.183 MiB