Package: IONiseR Version: 2.32.0 Command: /Library/Frameworks/R.framework/Resources/bin/R CMD build --keep-empty-dirs --no-resave-data IONiseR StartedAt: 2025-09-26 02:43:56 -0400 (Fri, 26 Sep 2025) EndedAt: 2025-09-26 02:46:48 -0400 (Fri, 26 Sep 2025) EllapsedTime: 171.7 seconds RetCode: 0 Status: OK PackageFile: IONiseR_2.32.0.tar.gz PackageFileSize: 4.186 MiB