Package: INTACT Version: 1.8.0 Command: /Library/Frameworks/R.framework/Resources/bin/R CMD INSTALL INTACT StartedAt: 2025-10-13 15:15:37 -0400 (Mon, 13 Oct 2025) EndedAt: 2025-10-13 15:15:55 -0400 (Mon, 13 Oct 2025) EllapsedTime: 18.2 seconds RetCode: 0 Status: OK