Package: INTACT Version: 1.8.0 Command: /Library/Frameworks/R.framework/Resources/bin/R CMD build --keep-empty-dirs --no-resave-data INTACT StartedAt: 2025-10-13 19:55:32 -0400 (Mon, 13 Oct 2025) EndedAt: 2025-10-13 19:56:02 -0400 (Mon, 13 Oct 2025) EllapsedTime: 29.8 seconds RetCode: 0 Status: OK PackageFile: INTACT_1.8.0.tar.gz PackageFileSize: 2.487 MiB