Package: INTACT Version: 1.8.0 Command: /home/biocbuild/R/R/bin/R CMD check --install=check:INTACT.install-out.txt --library=/home/biocbuild/R/R/site-library --no-vignettes --timings INTACT_1.8.0.tar.gz StartedAt: 2025-10-14 10:21:16 -0000 (Tue, 14 Oct 2025) EndedAt: 2025-10-14 10:22:02 -0000 (Tue, 14 Oct 2025) EllapsedTime: 46.1 seconds RetCode: 0 Status: OK CheckDir: INTACT.Rcheck Warnings: 0